BEGIN:VCALENDAR
VERSION:2.0
PRODID:-//GSAG - ECPv6.15.20//NONSGML v1.0//EN
CALSCALE:GREGORIAN
METHOD:PUBLISH
X-ORIGINAL-URL:https://gsag.local.devhood.eu
X-WR-CALDESC:Events for GSAG
REFRESH-INTERVAL;VALUE=DURATION:PT1H
X-Robots-Tag:noindex
X-PUBLISHED-TTL:PT1H
BEGIN:VTIMEZONE
TZID:Europe/Athens
BEGIN:DAYLIGHT
TZOFFSETFROM:+0200
TZOFFSETTO:+0300
TZNAME:EEST
DTSTART:20250330T010000
END:DAYLIGHT
BEGIN:STANDARD
TZOFFSETFROM:+0300
TZOFFSETTO:+0200
TZNAME:EET
DTSTART:20251026T010000
END:STANDARD
BEGIN:DAYLIGHT
TZOFFSETFROM:+0200
TZOFFSETTO:+0300
TZNAME:EEST
DTSTART:20260329T010000
END:DAYLIGHT
BEGIN:STANDARD
TZOFFSETFROM:+0300
TZOFFSETTO:+0200
TZNAME:EET
DTSTART:20261025T010000
END:STANDARD
BEGIN:DAYLIGHT
TZOFFSETFROM:+0200
TZOFFSETTO:+0300
TZNAME:EEST
DTSTART:20270328T010000
END:DAYLIGHT
BEGIN:STANDARD
TZOFFSETFROM:+0300
TZOFFSETTO:+0200
TZNAME:EET
DTSTART:20271031T010000
END:STANDARD
END:VTIMEZONE
BEGIN:VEVENT
DTSTART;TZID=Europe/Athens:20260421T110000
DTEND;TZID=Europe/Athens:20260421T200000
DTSTAMP:20260420T211306
CREATED:20260420T122317Z
LAST-MODIFIED:20260420T123007Z
UID:3408-1776769200-1776801600@gsag.local.devhood.eu
SUMMARY:Module 1: Βασικές Αρχές Αισθητικής Γυναικολογίας – PRP
DESCRIPTION:Πρακτικό σεμινάριο για τις βασικές αρχές Αισθητικής Γυναικολογίας με έμφαση στην τεχνική PRP. Περιλαμβάνει θεωρία\, live demonstrations και hands-on workshops. \nΑπευθύνεται σε γυναικολόγους που εντάσσονται για πρώτη φορά στο εκπαιδευτικό πρόγραμμα της GSAG.
URL:https://gsag.local.devhood.eu/event/module-1-%ce%b2%ce%b1%cf%83%ce%b9%ce%ba%ce%ad%cf%82-%ce%b1%cf%81%cf%87%ce%ad%cf%82-%ce%b1%ce%b9%cf%83%ce%b8%ce%b7%cf%84%ce%b9%ce%ba%ce%ae%cf%82-%ce%b3%cf%85%ce%bd%ce%b1%ce%b9%ce%ba%ce%bf%ce%bb%ce%bf/
END:VEVENT
END:VCALENDAR